BEGIN:VCALENDAR
VERSION:2.0
PRODID:https://www.enter.ch
BEGIN:VEVENT
UID:20260420T141459Z - 34889@12016750b454
DTSTART:20260801T093000
DTEND:20260801T120000
DESCRIPTION:Enter | 1. August Brunch im Museum: \nLink:\nhttps://www.enter.
 ch/de/events/1-august-brunch/\n\nWir freuen uns auf Ihre Teilnahme!
DTSTAMP:20260420T141459Z
LOCATION:Enter Technikwelt Solothurn\, Gewerbestrasse 4 Gewerbestrasse 4\, 
 4552 Derendingen
SUMMARY:Enter | 1. August Brunch im Museum
END:VEVENT
END:VCALENDAR
