BEGIN:VCALENDAR
VERSION:2.0
PRODID:https://www.enter.ch
BEGIN:VEVENT
UID:20260420T141605Z - 10450@12016750b454
DTSTART:20270109T100000
DTEND:20270109T170000
DESCRIPTION:Enter | Autophon-Tag: \nLink:\nhttps://www.enter.ch/de/events/a
 utophon-tag-2027/\n\nWir freuen uns auf Ihre Teilnahme!
DTSTAMP:20260420T141605Z
LOCATION:Enter Technikwelt Solothurn\, Gewerbestrasse 4 Gewerbestrasse 4\, 
 4552 Derendingen
SUMMARY:Enter | Autophon-Tag
END:VEVENT
END:VCALENDAR
