BEGIN:VCALENDAR
VERSION:2.0
PRODID:https://www.enter.ch
BEGIN:VEVENT
UID:20260420T141741Z - 22394@12016750b454
DTSTART:20261213T093000
DTEND:20261213T120000
DESCRIPTION:Enter | Brunch im Museum Dezember: \nLink:\nhttps://www.enter.c
 h/de/events/brunch-im-museum-dezember/\n\nWir freuen uns auf Ihre Teilnahm
 e!
DTSTAMP:20260420T141741Z
LOCATION:Enter Technikwelt Solothurn\, Gewerbestrasse 4 Gewerbestrasse 4\, 
 4552 Derendingen
SUMMARY:Enter | Brunch im Museum Dezember
END:VEVENT
END:VCALENDAR
