BEGIN:VCALENDAR
VERSION:2.0
PRODID:https://www.enter.ch
BEGIN:VEVENT
UID:20260420T141618Z - 97957@12016750b454
DTSTART:20260712T093000
DTEND:20260712T120000
DESCRIPTION:Enter | Brunch im Museum Juli: \nLink:\nhttps://www.enter.ch/de
 /events/brunch-im-museum-juli/\n\nWir freuen uns auf Ihre Teilnahme!
DTSTAMP:20260420T141618Z
LOCATION:Enter Technikwelt Solothurn\, Gewerbestrasse 4 Gewerbestrasse 4\, 
 4552 Derendingen
SUMMARY:Enter | Brunch im Museum Juli
END:VEVENT
END:VCALENDAR
