BEGIN:VCALENDAR
VERSION:2.0
PRODID:https://www.enter.ch
BEGIN:VEVENT
UID:20260420T141800Z - 45700@12016750b454
DTSTART:20261004T093000
DTEND:20261004T120000
DESCRIPTION:Enter | Brunch im Museum Oktober: \nLink:\nhttps://www.enter.ch
 /de/events/brunch-im-museum-oktober/\n\nWir freuen uns auf Ihre Teilnahme!
DTSTAMP:20260420T141800Z
LOCATION:Enter Technikwelt Solothurn\, Gewerbestrasse 4 Gewerbestrasse 4\, 
 4552 Derendingen
SUMMARY:Enter | Brunch im Museum Oktober
END:VEVENT
END:VCALENDAR
