BEGIN:VCALENDAR
VERSION:2.0
PRODID:https://www.enter.ch
BEGIN:VEVENT
UID:20260420T141741Z - 11013@12016750b454
DTSTART:20260906T093000
DTEND:20260906T120000
DESCRIPTION:Enter | Brunch im Museum September: \nLink:\nhttps://www.enter.
 ch/de/events/brunch-im-museum-september/\n\nWir freuen uns auf Ihre Teilna
 hme!
DTSTAMP:20260420T141741Z
LOCATION:Enter Technikwelt Solothurn\, Gewerbestrasse 4 Gewerbestrasse 4\, 
 4552 Derendingen
SUMMARY:Enter | Brunch im Museum September
END:VEVENT
END:VCALENDAR
