BEGIN:VCALENDAR
VERSION:2.0
PRODID:https://www.enter.ch
BEGIN:VEVENT
UID:20260419T131015Z - 58122@12016750b454
DTSTART:20260918T200000
DTEND:20260918T000000
DESCRIPTION:Enter | Disco Party 70s & 80s: \nLink:\nhttps://www.enter.ch/de
 /events/dance-party-70s-80s-september/\n\nWir freuen uns auf Ihre Teilnahm
 e!
DTSTAMP:20260419T131015Z
LOCATION:Enter Technikwelt Solothurn\, Gewerbestrasse 4 Gewerbestrasse 4\, 
 4552 Derendingen
SUMMARY:Enter | Disco Party 70s & 80s
END:VEVENT
END:VCALENDAR
