BEGIN:VCALENDAR
VERSION:2.0
PRODID:https://www.enter.ch
BEGIN:VEVENT
UID:20260420T141612Z - 24946@12016750b454
DTSTART:20260808T100000
DTEND:20260808T170000
DESCRIPTION:Enter | Enter Flohmarkt: \nLink:\nhttps://www.enter.ch/de/event
 s/enter-flohmarkt-august/\n\nWir freuen uns auf Ihre Teilnahme!
DTSTAMP:20260420T141612Z
LOCATION:Enter Technikwelt Solothurn\, Gewerbestrasse 4 Gewerbestrasse 4\, 
 4552 Derendingen
SUMMARY:Enter | Enter Flohmarkt
END:VEVENT
END:VCALENDAR
