BEGIN:VCALENDAR
VERSION:2.0
PRODID:https://www.enter.ch
BEGIN:VEVENT
UID:20260420T141754Z - 71711@12016750b454
DTSTART:20261010T100000
DTEND:20261010T170000
DESCRIPTION:Enter | Enter Flohmarkt: \nLink:\nhttps://www.enter.ch/de/event
 s/enter-flohmarkt-oktober/\n\nWir freuen uns auf Ihre Teilnahme!
DTSTAMP:20260420T141754Z
LOCATION:Enter Technikwelt Solothurn\, Gewerbestrasse 4 Gewerbestrasse 4\, 
 4552 Derendingen
SUMMARY:Enter | Enter Flohmarkt
END:VEVENT
END:VCALENDAR
