BEGIN:VCALENDAR
VERSION:2.0
PRODID:https://www.enter.ch
BEGIN:VEVENT
UID:20260420T141459Z - 83710@12016750b454
DTSTART:20260926T100000
DTEND:20260927T170000
DESCRIPTION:Enter | Enter OTM - Oldtimer-Teilemarkt: \nLink:\nhttps://www.e
 nter.ch/de/events/enter-otm-2026/\n\nWir freuen uns auf Ihre Teilnahme!
DTSTAMP:20260420T141459Z
LOCATION:Enter Technikwelt Solothurn\, Gewerbestrasse 4 Gewerbestrasse 4\, 
 4552 Derendingen
SUMMARY:Enter | Enter OTM - Oldtimer-Teilemarkt
END:VEVENT
END:VCALENDAR
