BEGIN:VCALENDAR
VERSION:2.0
PRODID:https://www.enter.ch
BEGIN:VEVENT
UID:20260420T141625Z - 85981@12016750b454
DTSTART:20260912T100000
DTEND:20260912T170000
DESCRIPTION:Enter | Family Day September: \nLink:\nhttps://www.enter.ch/de/
 events/family-day-september/\n\nWir freuen uns auf Ihre Teilnahme!
DTSTAMP:20260420T141625Z
LOCATION:Enter Technikwelt Solothurn\, Gewerbestrasse 4 Gewerbestrasse 4\, 
 4552 Derendingen
SUMMARY:Enter | Family Day September
END:VEVENT
END:VCALENDAR
