BEGIN:VCALENDAR
VERSION:2.0
PRODID:https://www.enter.ch
BEGIN:VEVENT
UID:20260422T225838Z - 48018@12016750b454
DTSTART:20260606T100000
DTEND:20260607T170000
DESCRIPTION:Enter | Filmautotreffen: \nLink:\nhttps://www.enter.ch/de/event
 s/filmautotreffen-2026/\n\nWir freuen uns auf Ihre Teilnahme!
DTSTAMP:20260422T225838Z
LOCATION:Enter Technikwelt Solothurn\, Gewerbestrasse 4 Gewerbestrasse 4\, 
 4552 Derendingen
SUMMARY:Enter | Filmautotreffen
END:VEVENT
END:VCALENDAR
