BEGIN:VCALENDAR
VERSION:2.0
PRODID:https://www.enter.ch
BEGIN:VEVENT
UID:20260420T141316Z - 24038@12016750b454
DTSTART:20261121T100000
DTEND:20261121T170000
DESCRIPTION:Enter | Gutenberg-Tag: \nLink:\nhttps://www.enter.ch/de/events/
 gutenberg-tag/\n\nWir freuen uns auf Ihre Teilnahme!
DTSTAMP:20260420T141316Z
LOCATION:Enter Technikwelt Solothurn\, Gewerbestrasse 4 Gewerbestrasse 4\, 
 4552 Derendingen
SUMMARY:Enter | Gutenberg-Tag
END:VEVENT
END:VCALENDAR
