BEGIN:VCALENDAR
VERSION:2.0
PRODID:https://www.enter.ch
BEGIN:VEVENT
UID:20260420T141315Z - 39692@12016750b454
DTSTART:20260502T103000
DTEND:20260502T120000
DESCRIPTION:Enter | Öffentliche Führung: Highlights der Technikgeschichte
 : \nLink:\nhttps://www.enter.ch/de/events/highlights-der-technikgeschichte
 -mai/\n\nWir freuen uns auf Ihre Teilnahme!
DTSTAMP:20260420T141315Z
LOCATION:Enter Technikwelt Solothurn\, Gewerbestrasse 4 Gewerbestrasse 4\, 
 4552 Derendingen
SUMMARY:Enter | Öffentliche Führung: Highlights der Technikgeschichte
END:VEVENT
END:VCALENDAR
