BEGIN:VCALENDAR
VERSION:2.0
PRODID:https://www.enter.ch
BEGIN:VEVENT
UID:20260420T141623Z - 15409@12016750b454
DTSTART:20260704T100000
DTEND:20260704T170000
DESCRIPTION:Enter | Honda Fan Event: \nLink:\nhttps://www.enter.ch/de/event
 s/honda-fan-event-2026/\n\nWir freuen uns auf Ihre Teilnahme!
DTSTAMP:20260420T141623Z
LOCATION:Enter Technikwelt Solothurn\, Gewerbestrasse 4 Gewerbestrasse 4\, 
 4552 Derendingen
SUMMARY:Enter | Honda Fan Event
END:VEVENT
END:VCALENDAR
