BEGIN:VCALENDAR
VERSION:2.0
PRODID:https://www.enter.ch
BEGIN:VEVENT
UID:20260420T141905Z - 19399@12016750b454
DTSTART:20270214T100000
DTEND:20270214T170000
DESCRIPTION:Enter | International Tape Recorder Day: \nLink:\nhttps://www.e
 nter.ch/de/events/int-tape-recorder-day-2027/\n\nWir freuen uns auf Ihre T
 eilnahme!
DTSTAMP:20260420T141905Z
LOCATION:Enter Technikwelt Solothurn\, Gewerbestrasse 4 Gewerbestrasse 4\, 
 4552 Derendingen
SUMMARY:Enter | International Tape Recorder Day
END:VEVENT
END:VCALENDAR
