BEGIN:VCALENDAR
VERSION:2.0
PRODID:https://www.enter.ch
BEGIN:VEVENT
UID:20260420T142019Z - 77301@12016750b454
DTSTART:20270220T100000
DTEND:20270220T170000
DESCRIPTION:Enter | Internationaler Tag der Bürotechnik: \nLink:\nhttps://
 www.enter.ch/de/events/internationaler-tag-der-buerotechnik/\n\nWir freuen
  uns auf Ihre Teilnahme!
DTSTAMP:20260420T142019Z
LOCATION:Enter Technikwelt Solothurn\, Gewerbestrasse 4 Gewerbestrasse 4\, 
 4552 Derendingen
SUMMARY:Enter | Internationaler Tag der Bürotechnik
END:VEVENT
END:VCALENDAR
