BEGIN:VCALENDAR
VERSION:2.0
PRODID:https://www.enter.ch
BEGIN:VEVENT
UID:20260420T141754Z - 7426@12016750b454
DTSTART:20261219T100000
DTEND:20261220T170000
DESCRIPTION:Enter | Modellbau-Börse: \nLink:\nhttps://www.enter.ch/de/even
 ts/modellbau-boerse-2026/\n\nWir freuen uns auf Ihre Teilnahme!
DTSTAMP:20260420T141754Z
LOCATION:Enter Technikwelt Solothurn\, Gewerbestrasse 4 Gewerbestrasse 4\, 
 4552 Derendingen
SUMMARY:Enter | Modellbau-Börse
END:VEVENT
END:VCALENDAR
