BEGIN:VCALENDAR
VERSION:2.0
PRODID:https://www.enter.ch
BEGIN:VEVENT
UID:20260420T141315Z - 36149@12016750b454
DTSTART:20260510T093000
DTEND:20260510T120000
DESCRIPTION:Enter | Muttertags-Brunch: \nLink:\nhttps://www.enter.ch/de/eve
 nts/muttertags-brunch-2026/\n\nWir freuen uns auf Ihre Teilnahme!
DTSTAMP:20260420T141315Z
LOCATION:Enter Technikwelt Solothurn\, Gewerbestrasse 4 Gewerbestrasse 4\, 
 4552 Derendingen
SUMMARY:Enter | Muttertags-Brunch
END:VEVENT
END:VCALENDAR
