BEGIN:VCALENDAR
VERSION:2.0
PRODID:https://www.enter.ch
BEGIN:VEVENT
UID:20260419T144024Z - 77570@12016750b454
DTSTART:20260809T100000
DTEND:20260809T190000
DESCRIPTION:Enter | Oldtimer (50s & 60s) & Rock'n'Roll Livekonzert: \nLink:
 \nhttps://www.enter.ch/de/events/oldtimer-50s-60s-rock-n-roll-mit-live-ban
 d/\n\nWir freuen uns auf Ihre Teilnahme!
DTSTAMP:20260419T144024Z
LOCATION:Enter Technikwelt Solothurn\, Gewerbestrasse 4 Gewerbestrasse 4\, 
 4552 Derendingen
SUMMARY:Enter | Oldtimer (50s & 60s) & Rock'n'Roll Livekonzert
END:VEVENT
END:VCALENDAR
