BEGIN:VCALENDAR
VERSION:2.0
PRODID:https://www.enter.ch
BEGIN:VEVENT
UID:20260423T154938Z - 97793@12016750b454
DTSTART:20261024T100000
DTEND:20261024T170000
DESCRIPTION:Enter | Retro-Börse: \nLink:\nhttps://www.enter.ch/de/events/r
 etro-borse-okt/\n\nWir freuen uns auf Ihre Teilnahme!
DTSTAMP:20260423T154938Z
LOCATION:Enter Technikwelt Solothurn\, Gewerbestrasse 4 Gewerbestrasse 4\, 
 4552 Derendingen
SUMMARY:Enter | Retro-Börse
END:VEVENT
END:VCALENDAR
