BEGIN:VCALENDAR
VERSION:2.0
PRODID:https://www.enter.ch
BEGIN:VEVENT
UID:20260420T141500Z - 54372@12016750b454
DTSTART:20261031T100000
DTEND:20261101T180000
DESCRIPTION:Enter | SoloCon: \nLink:\nhttps://www.enter.ch/de/events/soloco
 n-2026/\n\nWir freuen uns auf Ihre Teilnahme!
DTSTAMP:20260420T141500Z
LOCATION:Enter Technikwelt Solothurn\, Gewerbestrasse 4 Gewerbestrasse 4\, 
 4552 Derendingen
SUMMARY:Enter | SoloCon
END:VEVENT
END:VCALENDAR
