BEGIN:VCALENDAR
VERSION:2.0
PRODID:https://www.enter.ch
BEGIN:VEVENT
UID:20260420T142019Z - 86623@12016750b454
DTSTART:20270130T100000
DTEND:20270131T170000
DESCRIPTION:Enter | Swiss HAM / Crypto / Elektronik: \nLink:\nhttps://www.e
 nter.ch/de/events/swiss-ham-crypto-elektronik-2027/\n\nWir freuen uns auf 
 Ihre Teilnahme!
DTSTAMP:20260420T142019Z
LOCATION:Enter Technikwelt Solothurn\, Gewerbestrasse 4 Gewerbestrasse 4\, 
 4552 Derendingen
SUMMARY:Enter | Swiss HAM / Crypto / Elektronik
END:VEVENT
END:VCALENDAR
