BEGIN:VCALENDAR
VERSION:2.0
PRODID:https://www.enter.ch
BEGIN:VEVENT
UID:20260420T141754Z - 72104@12016750b454
DTSTART:20261107T100000
DTEND:20261107T180000
DESCRIPTION:Enter | Vintage Computer Festival: \nLink:\nhttps://www.enter.c
 h/de/events/vintage-computer-festival-2026/\n\nWir freuen uns auf Ihre Tei
 lnahme!
DTSTAMP:20260420T141754Z
LOCATION:Enter Technikwelt Solothurn\, Gewerbestrasse 4 Gewerbestrasse 4\, 
 4552 Derendingen
SUMMARY:Enter | Vintage Computer Festival
END:VEVENT
END:VCALENDAR
