BEGIN:VCALENDAR
VERSION:2.0
PRODID:https://www.enter.ch
BEGIN:VEVENT
UID:20260420T141926Z - 91436@12016750b454
DTSTART:20270221T100000
DTEND:20270221T170000
DESCRIPTION:Enter | Vinyl- / Film- / Bücher-Börse: \nLink:\nhttps://www.e
 nter.ch/de/events/vinyl-film-bucher-borse/\n\nWir freuen uns auf Ihre Teil
 nahme!
DTSTAMP:20260420T141926Z
LOCATION:Enter Technikwelt Solothurn\, Gewerbestrasse 4 Gewerbestrasse 4\, 
 4552 Derendingen
SUMMARY:Enter | Vinyl- / Film- / Bücher-Börse
END:VEVENT
END:VCALENDAR
