BEGIN:VCALENDAR
VERSION:2.0
PRODID:https://www.enter.ch
BEGIN:VEVENT
UID:20260420T142110Z - 50706@12016750b454
DTSTART:20260808T140000
DTEND:20260808T150000
DESCRIPTION:Enter | Vorführung: Linotype – Die Revolution des Buchdrucks
  August: \nLink:\nhttps://www.enter.ch/de/events/vorfuhrung-linotype-die-r
 evolution-des-buchdrucks-august/\n\nWir freuen uns auf Ihre Teilnahme!
DTSTAMP:20260420T142110Z
LOCATION:Enter Technikwelt Solothurn\, Gewerbestrasse 4 Gewerbestrasse 4\, 
 4552 Derendingen
SUMMARY:Enter | Vorführung: Linotype – Die Revolution des Buchdrucks Aug
 ust
END:VEVENT
END:VCALENDAR
