BEGIN:VCALENDAR
VERSION:2.0
PRODID:https://www.enter.ch
BEGIN:VEVENT
UID:20260420T141450Z - 16402@12016750b454
DTSTART:20270206T140000
DTEND:20270206T150000
DESCRIPTION:Enter | Vorführung: Linotype – Die Revolution des Buchdrucks
  Februar: \nLink:\nhttps://www.enter.ch/de/events/vorfuhrung-linotype-die-
 revolution-des-buchdrucks-februar/\n\nWir freuen uns auf Ihre Teilnahme!
DTSTAMP:20260420T141450Z
LOCATION:Enter Technikwelt Solothurn\, Gewerbestrasse 4 Gewerbestrasse 4\, 
 4552 Derendingen
SUMMARY:Enter | Vorführung: Linotype – Die Revolution des Buchdrucks Feb
 ruar
END:VEVENT
END:VCALENDAR
