BEGIN:VCALENDAR
VERSION:2.0
PRODID:https://www.enter.ch
BEGIN:VEVENT
UID:20260420T141331Z - 54930@12016750b454
DTSTART:20270109T140000
DTEND:20270109T150000
DESCRIPTION:Enter | Vorführung: Linotype – Die Revolution des Buchdrucks
  Januar: \nLink:\nhttps://www.enter.ch/de/events/vorfuhrung-linotype-die-r
 evolution-des-buchdrucks-januar/\n\nWir freuen uns auf Ihre Teilnahme!
DTSTAMP:20260420T141331Z
LOCATION:Enter Technikwelt Solothurn\, Gewerbestrasse 4 Gewerbestrasse 4\, 
 4552 Derendingen
SUMMARY:Enter | Vorführung: Linotype – Die Revolution des Buchdrucks Jan
 uar
END:VEVENT
END:VCALENDAR
