BEGIN:VCALENDAR
VERSION:2.0
PRODID:https://www.enter.ch
BEGIN:VEVENT
UID:20260420T142213Z - 10331@12016750b454
DTSTART:20260704T140000
DTEND:20260704T150000
DESCRIPTION:Enter | Vorführung: Linotype – Die Revolution des Buchdrucks
  Juli: \nLink:\nhttps://www.enter.ch/de/events/vorfuhrung-linotype-die-rev
 olution-des-buchdrucks-juli/\n\nWir freuen uns auf Ihre Teilnahme!
DTSTAMP:20260420T142213Z
LOCATION:Enter Technikwelt Solothurn\, Gewerbestrasse 4 Gewerbestrasse 4\, 
 4552 Derendingen
SUMMARY:Enter | Vorführung: Linotype – Die Revolution des Buchdrucks Juli
END:VEVENT
END:VCALENDAR
