BEGIN:VCALENDAR
VERSION:2.0
PRODID:https://www.enter.ch
BEGIN:VEVENT
UID:20260420T142044Z - 11888@12016750b454
DTSTART:20260606T140000
DTEND:20260606T150000
DESCRIPTION:Enter | Vorführung: Linotype – Die Revolution des Buchdrucks
  Juni: \nLink:\nhttps://www.enter.ch/de/events/vorfuhrung-linotype-die-rev
 olution-des-buchdrucks-juni/\n\nWir freuen uns auf Ihre Teilnahme!
DTSTAMP:20260420T142044Z
LOCATION:Enter Technikwelt Solothurn\, Gewerbestrasse 4 Gewerbestrasse 4\, 
 4552 Derendingen
SUMMARY:Enter | Vorführung: Linotype – Die Revolution des Buchdrucks Juni
END:VEVENT
END:VCALENDAR
