BEGIN:VCALENDAR
VERSION:2.0
PRODID:https://www.enter.ch
BEGIN:VEVENT
UID:20260420T141332Z - 46369@12016750b454
DTSTART:20270313T140000
DTEND:20270313T150000
DESCRIPTION:Enter | Vorführung: Linotype – Die Revolution des Buchdrucks
  März: \nLink:\nhttps://www.enter.ch/de/events/vorfuhrung-linotype-die-re
 volution-des-buchdrucks-marz/\n\nWir freuen uns auf Ihre Teilnahme!
DTSTAMP:20260420T141332Z
LOCATION:Enter Technikwelt Solothurn\, Gewerbestrasse 4 Gewerbestrasse 4\, 
 4552 Derendingen
SUMMARY:Enter | Vorführung: Linotype – Die Revolution des Buchdrucks März
END:VEVENT
END:VCALENDAR
