BEGIN:VCALENDAR
VERSION:2.0
PRODID:https://www.enter.ch
BEGIN:VEVENT
UID:20260420T141330Z - 89752@12016750b454
DTSTART:20261107T140000
DTEND:20261107T150000
DESCRIPTION:Enter | Vorführung: Linotype – Die Revolution des Buchdrucks
  November: \nLink:\nhttps://www.enter.ch/de/events/vorfuhrung-linotype-die
 -revolution-des-buchdrucks-november/\n\nWir freuen uns auf Ihre Teilnahme!
DTSTAMP:20260420T141330Z
LOCATION:Enter Technikwelt Solothurn\, Gewerbestrasse 4 Gewerbestrasse 4\, 
 4552 Derendingen
SUMMARY:Enter | Vorführung: Linotype – Die Revolution des Buchdrucks Nov
 ember
END:VEVENT
END:VCALENDAR
