BEGIN:VCALENDAR
VERSION:2.0
PRODID:https://www.enter.ch
BEGIN:VEVENT
UID:20260420T141425Z - 40855@12016750b454
DTSTART:20261010T140000
DTEND:20261010T150000
DESCRIPTION:Enter | Vorführung: Linotype – Die Revolution des Buchdrucks
  Oktober: \nLink:\nhttps://www.enter.ch/de/events/vorfuhrung-linotype-die-
 revolution-des-buchdrucks-oktober/\n\nWir freuen uns auf Ihre Teilnahme!
DTSTAMP:20260420T141425Z
LOCATION:Enter Technikwelt Solothurn\, Gewerbestrasse 4 Gewerbestrasse 4\, 
 4552 Derendingen
SUMMARY:Enter | Vorführung: Linotype – Die Revolution des Buchdrucks Okt
 ober
END:VEVENT
END:VCALENDAR
