BEGIN:VCALENDAR
VERSION:2.0
PRODID:https://www.enter.ch
BEGIN:VEVENT
UID:20260420T142222Z - 26341@12016750b454
DTSTART:20260905T140000
DTEND:20260905T150000
DESCRIPTION:Enter | Vorführung: Linotype – Die Revolution des Buchdrucks
  September: \nLink:\nhttps://www.enter.ch/de/events/vorfuhrung-linotype-di
 e-revolution-des-buchdrucks-september/\n\nWir freuen uns auf Ihre Teilnahm
 e!
DTSTAMP:20260420T142222Z
LOCATION:Enter Technikwelt Solothurn\, Gewerbestrasse 4 Gewerbestrasse 4\, 
 4552 Derendingen
SUMMARY:Enter | Vorführung: Linotype – Die Revolution des Buchdrucks Sep
 tember
END:VEVENT
END:VCALENDAR
