BEGIN:VCALENDAR
VERSION:2.0
PRODID:https://www.enter.ch
BEGIN:VEVENT
UID:20260420T142212Z - 16124@12016750b454
DTSTART:20260425T140000
DTEND:20260425T143000
DESCRIPTION:Enter | Vorführung: Z3 – Konrad Zuses Relais-Computer April:
  \nLink:\nhttps://www.enter.ch/de/events/vorfuhrung-z3-konrad-zuses-relais
 -computer-april/\n\nWir freuen uns auf Ihre Teilnahme!
DTSTAMP:20260420T142212Z
LOCATION:Enter Technikwelt Solothurn\, Gewerbestrasse 4 Gewerbestrasse 4\, 
 4552 Derendingen
SUMMARY:Enter | Vorführung: Z3 – Konrad Zuses Relais-Computer April
END:VEVENT
END:VCALENDAR
