BEGIN:VCALENDAR
VERSION:2.0
PRODID:https://www.enter.ch
BEGIN:VEVENT
UID:20260420T142110Z - 57790@12016750b454
DTSTART:20260829T140000
DTEND:20260829T143000
DESCRIPTION:Enter | Vorführung: Z3 – Konrad Zuses Relais-Computer August
 : \nLink:\nhttps://www.enter.ch/de/events/vorfuhrung-z3-konrad-zuses-relai
 s-computer-august/\n\nWir freuen uns auf Ihre Teilnahme!
DTSTAMP:20260420T142110Z
LOCATION:Enter Technikwelt Solothurn\, Gewerbestrasse 4 Gewerbestrasse 4\, 
 4552 Derendingen
SUMMARY:Enter | Vorführung: Z3 – Konrad Zuses Relais-Computer August
END:VEVENT
END:VCALENDAR
