BEGIN:VCALENDAR
VERSION:2.0
PRODID:https://www.enter.ch
BEGIN:VEVENT
UID:20260420T142223Z - 97599@12016750b454
DTSTART:20261226T140000
DTEND:20261226T143000
DESCRIPTION:Enter | Vorführung: Z3 – Konrad Zuses Relais-Computer Dezemb
 er: \nLink:\nhttps://www.enter.ch/de/events/vorfuhrung-z3-konrad-zuses-rel
 ais-computer-dezember/\n\nWir freuen uns auf Ihre Teilnahme!
DTSTAMP:20260420T142223Z
LOCATION:Enter Technikwelt Solothurn\, Gewerbestrasse 4 Gewerbestrasse 4\, 
 4552 Derendingen
SUMMARY:Enter | Vorführung: Z3 – Konrad Zuses Relais-Computer Dezember
END:VEVENT
END:VCALENDAR
