BEGIN:VCALENDAR
VERSION:2.0
PRODID:https://www.enter.ch
BEGIN:VEVENT
UID:20260420T142045Z - 63048@12016750b454
DTSTART:20260627T140000
DTEND:20260627T143000
DESCRIPTION:Enter | Vorführung: Z3 – Konrad Zuses Relais-Computer Juni: 
 \nLink:\nhttps://www.enter.ch/de/events/vorfuhrung-z3-konrad-zuses-relais-
 computer-juni/\n\nWir freuen uns auf Ihre Teilnahme!
DTSTAMP:20260420T142045Z
LOCATION:Enter Technikwelt Solothurn\, Gewerbestrasse 4 Gewerbestrasse 4\, 
 4552 Derendingen
SUMMARY:Enter | Vorführung: Z3 – Konrad Zuses Relais-Computer Juni
END:VEVENT
END:VCALENDAR
