BEGIN:VCALENDAR
VERSION:2.0
PRODID:https://www.enter.ch
BEGIN:VEVENT
UID:20260420T142222Z - 69010@12016750b454
DTSTART:20261128T140000
DTEND:20261128T143000
DESCRIPTION:Enter | Vorführung: Z3 – Konrad Zuses Relais-Computer Novemb
 er: \nLink:\nhttps://www.enter.ch/de/events/vorfuhrung-z3-konrad-zuses-rel
 ais-computer-november/\n\nWir freuen uns auf Ihre Teilnahme!
DTSTAMP:20260420T142222Z
LOCATION:Enter Technikwelt Solothurn\, Gewerbestrasse 4 Gewerbestrasse 4\, 
 4552 Derendingen
SUMMARY:Enter | Vorführung: Z3 – Konrad Zuses Relais-Computer November
END:VEVENT
END:VCALENDAR
