BEGIN:VCALENDAR
VERSION:2.0
PRODID:https://www.enter.ch
BEGIN:VEVENT
UID:20260420T142325Z - 43876@12016750b454
DTSTART:20261031T140000
DTEND:20261031T143000
DESCRIPTION:Enter | Vorführung: Z3 – Konrad Zuses Relais-Computer Oktobe
 r: \nLink:\nhttps://www.enter.ch/de/events/vorfuhrung-z3-konrad-zuses-rela
 is-computer-oktober/\n\nWir freuen uns auf Ihre Teilnahme!
DTSTAMP:20260420T142325Z
LOCATION:Enter Technikwelt Solothurn\, Gewerbestrasse 4 Gewerbestrasse 4\, 
 4552 Derendingen
SUMMARY:Enter | Vorführung: Z3 – Konrad Zuses Relais-Computer Oktober
END:VEVENT
END:VCALENDAR
