BEGIN:VCALENDAR
VERSION:2.0
PRODID:https://www.enter.ch
BEGIN:VEVENT
UID:20260420T141618Z - 58081@12016750b454
DTSTART:20261205T100000
DTEND:20261206T170000
DESCRIPTION:Enter | Weihnachtsmarkt: \nLink:\nhttps://www.enter.ch/de/event
 s/weihnachtsmarkt-2026/\n\nWir freuen uns auf Ihre Teilnahme!
DTSTAMP:20260420T141618Z
LOCATION:Enter Technikwelt Solothurn\, Gewerbestrasse 4 Gewerbestrasse 4\, 
 4552 Derendingen
SUMMARY:Enter | Weihnachtsmarkt
END:VEVENT
END:VCALENDAR
