BEGIN:VCALENDAR
VERSION:2.0
PRODID:https://www.enter.ch
BEGIN:VEVENT
UID:20260420T141941Z - 23227@12016750b454
DTSTART:20260822T100000
DTEND:20260822T120000
DESCRIPTION:Enter | Workshop: 3D-Druck Grundlagen: \nLink:\nhttps://www.ent
 er.ch/de/events/workshop-3d-druck-grundlagen-august/\n\nWir freuen uns auf
  Ihre Teilnahme!
DTSTAMP:20260420T141941Z
LOCATION:Enter Technikwelt Solothurn\, Gewerbestrasse 4 Gewerbestrasse 4\, 
 4552 Derendingen
SUMMARY:Enter | Workshop: 3D-Druck Grundlagen
END:VEVENT
END:VCALENDAR
