BEGIN:VCALENDAR
VERSION:2.0
PRODID:https://www.enter.ch
BEGIN:VEVENT
UID:20260420T142326Z - 95258@12016750b454
DTSTART:20260822T133000
DTEND:20260822T170000
DESCRIPTION:Enter | Workshop: 3D-Zeichnen mit FreeCAD – Grundlagen: \nLin
 k:\nhttps://www.enter.ch/de/events/workshop-3d-zeichnen-mit-freecad-grundl
 agen-august/\n\nWir freuen uns auf Ihre Teilnahme!
DTSTAMP:20260420T142326Z
LOCATION:Enter Technikwelt Solothurn\, Gewerbestrasse 4 Gewerbestrasse 4\, 
 4552 Derendingen
SUMMARY:Enter | Workshop: 3D-Zeichnen mit FreeCAD – Grundlagen
END:VEVENT
END:VCALENDAR
