BEGIN:VCALENDAR
VERSION:2.0
PRODID:https://www.enter.ch
BEGIN:VEVENT
UID:20260420T142220Z - 90563@12016750b454
DTSTART:20261016T190000
DTEND:20261016T213000
DESCRIPTION:Enter | Workshop: Balkonkraftwerk selbst bauen: \nLink:\nhttps:
 //www.enter.ch/de/events/workshop-balkonkraftwerk-selbst-bauen-oktober/\n\
 nWir freuen uns auf Ihre Teilnahme!
DTSTAMP:20260420T142220Z
LOCATION:Enter Technikwelt Solothurn\, Gewerbestrasse 4 Gewerbestrasse 4\, 
 4552 Derendingen
SUMMARY:Enter | Workshop: Balkonkraftwerk selbst bauen
END:VEVENT
END:VCALENDAR
