BEGIN:VCALENDAR
VERSION:2.0
PRODID:https://www.enter.ch
BEGIN:VEVENT
UID:20260420T141611Z - 7095@12016750b454
DTSTART:20270109T100000
DTEND:20270109T170000
DESCRIPTION:Enter | Autophon Day: \nLink:\nhttps://www.enter.ch/en/events/a
 utophon-day-2027/\n\nWe are very excited about your participation!
DTSTAMP:20260420T141611Z
LOCATION:Enter Technikwelt Solothurn\, Gewerbestrasse 4 Gewerbestrasse 4\, 
 4552 Derendingen
SUMMARY:Enter | Autophon Day
END:VEVENT
END:VCALENDAR
