BEGIN:VCALENDAR
VERSION:2.0
PRODID:https://www.enter.ch
BEGIN:VEVENT
UID:20260420T142019Z - 92359@12016750b454
DTSTART:20260712T093000
DTEND:20260712T120000
DESCRIPTION:Enter | Brunch at the Museum July: \nLink:\nhttps://www.enter.c
 h/en/events/brunch-at-the-museum-july/\n\nWe are very excited about your p
 articipation!
DTSTAMP:20260420T142019Z
LOCATION:Enter Technikwelt Solothurn\, Gewerbestrasse 4 Gewerbestrasse 4\, 
 4552 Derendingen
SUMMARY:Enter | Brunch at the Museum July
END:VEVENT
END:VCALENDAR
