BEGIN:VCALENDAR
VERSION:2.0
PRODID:https://www.enter.ch
BEGIN:VEVENT
UID:20260420T155205Z - 72680@12016750b454
DTSTART:20260614T093000
DTEND:20260614T120000
DESCRIPTION:Enter | Brunch at the Museum June: \nLink:\nhttps://www.enter.c
 h/en/events/brunch-at-the-museum-june/\n\nWe are very excited about your p
 articipation!
DTSTAMP:20260420T155205Z
LOCATION:Enter Technikwelt Solothurn\, Gewerbestrasse 4 Gewerbestrasse 4\, 
 4552 Derendingen
SUMMARY:Enter | Brunch at the Museum June
END:VEVENT
END:VCALENDAR
