BEGIN:VCALENDAR
VERSION:2.0
PRODID:https://www.enter.ch
BEGIN:VEVENT
UID:20260420T143335Z - 16165@12016750b454
DTSTART:20261115T093000
DTEND:20261115T120000
DESCRIPTION:Enter | Brunch at the Museum November: \nLink:\nhttps://www.ent
 er.ch/en/events/brunch-at-the-museum-november/\n\nWe are very excited abou
 t your participation!
DTSTAMP:20260420T143335Z
LOCATION:Enter Technikwelt Solothurn\, Gewerbestrasse 4 Gewerbestrasse 4\, 
 4552 Derendingen
SUMMARY:Enter | Brunch at the Museum November
END:VEVENT
END:VCALENDAR
