BEGIN:VCALENDAR
VERSION:2.0
PRODID:https://www.enter.ch
BEGIN:VEVENT
UID:20260420T141926Z - 89231@12016750b454
DTSTART:20261004T093000
DTEND:20261004T120000
DESCRIPTION:Enter | Brunch at the Museum October: \nLink:\nhttps://www.ente
 r.ch/en/events/brunch-at-the-museum-october/\n\nWe are very excited about 
 your participation!
DTSTAMP:20260420T141926Z
LOCATION:Enter Technikwelt Solothurn\, Gewerbestrasse 4 Gewerbestrasse 4\, 
 4552 Derendingen
SUMMARY:Enter | Brunch at the Museum October
END:VEVENT
END:VCALENDAR
