BEGIN:VCALENDAR
VERSION:2.0
PRODID:https://www.enter.ch
BEGIN:VEVENT
UID:20260420T141942Z - 62850@12016750b454
DTSTART:20260906T093000
DTEND:20260906T120000
DESCRIPTION:Enter | Brunch at the Museum September: \nLink:\nhttps://www.en
 ter.ch/en/events/brunch-at-the-museum-september/\n\nWe are very excited ab
 out your participation!
DTSTAMP:20260420T141942Z
LOCATION:Enter Technikwelt Solothurn\, Gewerbestrasse 4 Gewerbestrasse 4\, 
 4552 Derendingen
SUMMARY:Enter | Brunch at the Museum September
END:VEVENT
END:VCALENDAR
